BEGIN:VCALENDAR
VERSION:2.0
PRODID:-//Kytherian Association of Australia - ECPv6.15.20//NONSGML v1.0//EN
CALSCALE:GREGORIAN
METHOD:PUBLISH
X-WR-CALNAME:Kytherian Association of Australia
X-ORIGINAL-URL:https://kytherianassociation.com.au
X-WR-CALDESC:Events for Kytherian Association of Australia
REFRESH-INTERVAL;VALUE=DURATION:PT1H
X-Robots-Tag:noindex
X-PUBLISHED-TTL:PT1H
BEGIN:VTIMEZONE
TZID:Australia/Sydney
BEGIN:STANDARD
TZOFFSETFROM:+1100
TZOFFSETTO:+1000
TZNAME:AEST
DTSTART:20230401T160000
END:STANDARD
BEGIN:DAYLIGHT
TZOFFSETFROM:+1000
TZOFFSETTO:+1100
TZNAME:AEDT
DTSTART:20230930T160000
END:DAYLIGHT
BEGIN:STANDARD
TZOFFSETFROM:+1100
TZOFFSETTO:+1000
TZNAME:AEST
DTSTART:20240406T160000
END:STANDARD
BEGIN:DAYLIGHT
TZOFFSETFROM:+1000
TZOFFSETTO:+1100
TZNAME:AEDT
DTSTART:20241005T160000
END:DAYLIGHT
BEGIN:STANDARD
TZOFFSETFROM:+1100
TZOFFSETTO:+1000
TZNAME:AEST
DTSTART:20250405T160000
END:STANDARD
BEGIN:DAYLIGHT
TZOFFSETFROM:+1000
TZOFFSETTO:+1100
TZNAME:AEDT
DTSTART:20251004T160000
END:DAYLIGHT
END:VTIMEZONE
BEGIN:VEVENT
DTSTART;TZID=Australia/Sydney:20241205T190000
DTEND;TZID=Australia/Sydney:20241206T000000
DTSTAMP:20260422T023900
CREATED:20241127T011545Z
LAST-MODIFIED:20241127T011545Z
UID:3118-1733425200-1733443200@kytherianassociation.com.au
SUMMARY:Elysian Lounge - Combined Youth Event
DESCRIPTION:The Kytherian\, Kalymnian and Lemnian Youth Associations present \nElysian Lounge – the Ultimate Greek Paradise\nJoin us at an exclusive venue where you will be treated like a VIP (STRICTLY AN 18+ EVENT) \nThursday 5 December 2024 \n7pm-12am \nPrice: $75 \nGitano Sydney \nEnjoy live Greek music\, amazing parea and a $6000 bar tab\, while feasting on Gitano’s signature soft-shell tacos\, chicken and lamb souvlaki. \nDon’t miss this unforgettable night – we can’t wait to see you there \nBOOKINGS: https://www.trybooking.com/events/landing/1321722
URL:https://kytherianassociation.com.au/event/elysian-lounge-combined-youth-event/
LOCATION:Gitano\, 53 Cross Street\, Double Bay\, NSW\, 2028\, Australia
CATEGORIES:Kytherian Youth Association
ATTACH;FMTTYPE=image/jpeg:https://kytherianassociation.com.au/wp-content/uploads/2024/11/Elysian-Lounge-scaled.jpg
END:VEVENT
END:VCALENDAR