BEGIN:VCALENDAR
VERSION:2.0
PRODID:-//Kytherian Association of Australia - ECPv6.15.20//NONSGML v1.0//EN
CALSCALE:GREGORIAN
METHOD:PUBLISH
X-ORIGINAL-URL:https://kytherianassociation.com.au
X-WR-CALDESC:Events for Kytherian Association of Australia
REFRESH-INTERVAL;VALUE=DURATION:PT1H
X-Robots-Tag:noindex
X-PUBLISHED-TTL:PT1H
BEGIN:VTIMEZONE
TZID:Australia/Sydney
BEGIN:STANDARD
TZOFFSETFROM:+1100
TZOFFSETTO:+1000
TZNAME:AEST
DTSTART:20250405T160000
END:STANDARD
BEGIN:DAYLIGHT
TZOFFSETFROM:+1000
TZOFFSETTO:+1100
TZNAME:AEDT
DTSTART:20251004T160000
END:DAYLIGHT
BEGIN:STANDARD
TZOFFSETFROM:+1100
TZOFFSETTO:+1000
TZNAME:AEST
DTSTART:20260404T160000
END:STANDARD
BEGIN:DAYLIGHT
TZOFFSETFROM:+1000
TZOFFSETTO:+1100
TZNAME:AEDT
DTSTART:20261003T160000
END:DAYLIGHT
BEGIN:STANDARD
TZOFFSETFROM:+1100
TZOFFSETTO:+1000
TZNAME:AEST
DTSTART:20270403T160000
END:STANDARD
BEGIN:DAYLIGHT
TZOFFSETFROM:+1000
TZOFFSETTO:+1100
TZNAME:AEDT
DTSTART:20271002T160000
END:DAYLIGHT
END:VTIMEZONE
BEGIN:VEVENT
DTSTART;TZID=Australia/Sydney:20260213T183000
DTEND;TZID=Australia/Sydney:20260213T230000
DTSTAMP:20260420T214502
CREATED:20260128T023453Z
LAST-MODIFIED:20260128T023453Z
UID:3756-1771007400-1771023600@kytherianassociation.com.au
SUMMARY:KYA APOKRIES AFLOAT
DESCRIPTION:FRIDAY 13TH FEBRUARY 2026 \nKYA collaborating with the Kalymnian Youth Society of NSW\, the Lemnian Youth Association of NSW and the Pontoxenitas Youth Society of NSW\, on Glass Island to celebrate the beautifl cultural holiday of Apokries.  This is a night no one will want to miss! \nWe encouragee everyone aged 18-28 to grab a ticket before they sell out. \nLive DJ + bouzouki + cocktail drummer; Global sounds-Greek anthems \nDONT FORGET TO BRING YOUR FAVOURITE MASK \nBoarding 6.45pm; Disembark 11pm \nKing St Wharf 9\, Darling Harbour \nFROM $45 \nBookings: https://www.eventbrite.com.au/e/apokries-afloat-fri-13th-feb-tickets-1980934984865?aff=ebdsoporgprofile
URL:https://kytherianassociation.com.au/event/kya-apokries-afloat/
LOCATION:King Street Wharf 9\, Lime Street\, Sydney\, NSW\, 2000\, Australia
CATEGORIES:Kytherian Youth Association
ATTACH;FMTTYPE=image/jpeg:https://kytherianassociation.com.au/wp-content/uploads/2026/01/Apokries-Afloat-Flyer-3-003.pdf.jpg
END:VEVENT
END:VCALENDAR