BEGIN:VCALENDAR
VERSION:2.0
PRODID:-//Kytherian Association of Australia - ECPv6.15.20//NONSGML v1.0//EN
CALSCALE:GREGORIAN
METHOD:PUBLISH
X-ORIGINAL-URL:https://kytherianassociation.com.au
X-WR-CALDESC:Events for Kytherian Association of Australia
REFRESH-INTERVAL;VALUE=DURATION:PT1H
X-Robots-Tag:noindex
X-PUBLISHED-TTL:PT1H
BEGIN:VTIMEZONE
TZID:Australia/Sydney
BEGIN:STANDARD
TZOFFSETFROM:+1100
TZOFFSETTO:+1000
TZNAME:AEST
DTSTART:20240406T160000
END:STANDARD
BEGIN:DAYLIGHT
TZOFFSETFROM:+1000
TZOFFSETTO:+1100
TZNAME:AEDT
DTSTART:20241005T160000
END:DAYLIGHT
BEGIN:STANDARD
TZOFFSETFROM:+1100
TZOFFSETTO:+1000
TZNAME:AEST
DTSTART:20250405T160000
END:STANDARD
BEGIN:DAYLIGHT
TZOFFSETFROM:+1000
TZOFFSETTO:+1100
TZNAME:AEDT
DTSTART:20251004T160000
END:DAYLIGHT
BEGIN:STANDARD
TZOFFSETFROM:+1100
TZOFFSETTO:+1000
TZNAME:AEST
DTSTART:20260404T160000
END:STANDARD
BEGIN:DAYLIGHT
TZOFFSETFROM:+1000
TZOFFSETTO:+1100
TZNAME:AEDT
DTSTART:20261003T160000
END:DAYLIGHT
END:VTIMEZONE
BEGIN:VEVENT
DTSTART;TZID=Australia/Sydney:20250123T183000
DTEND;TZID=Australia/Sydney:20250123T230000
DTSTAMP:20260423T210740
CREATED:20241127T013349Z
LAST-MODIFIED:20241127T013349Z
UID:3126-1737657000-1737673200@kytherianassociation.com.au
SUMMARY:KYFG Teppenyaki
DESCRIPTION:Kytherian Young Families Group (KYFG) present \nTEPPENYAKI\nThursday 23 January 2025 @ 6.30pm\nAsahi Teppenyaki Restaurant\, 459 King Georges Road\, Beverly Hills \n13-18 years old \n$50 \nBOOKINGS: https://www.trybooking.com/CWZTN \nParents – if you would like to have dinner at Eat Greek Beverly Hills while waiting for your kids\, indicate this on Trybooking. \nEnquiries: Gloria Tzannes 0417 020 005; Maria Karedis 0403 346 942;
URL:https://kytherianassociation.com.au/event/kyfg-teppenyaki/
LOCATION:Asahi Teppenyaki Restaurant\, 459 King Georges Road\, Beverly Hills\, NSW\, 2209\, Australia
CATEGORIES:Kytherian Young Families Group
ATTACH;FMTTYPE=image/png:https://kytherianassociation.com.au/wp-content/uploads/2024/11/Teppenyaki-Flyer-002.png
END:VEVENT
END:VCALENDAR