BEGIN:VCALENDAR
VERSION:2.0
PRODID:-//Kytherian Association of Australia - ECPv6.15.20//NONSGML v1.0//EN
CALSCALE:GREGORIAN
METHOD:PUBLISH
X-ORIGINAL-URL:https://kytherianassociation.com.au
X-WR-CALDESC:Events for Kytherian Association of Australia
REFRESH-INTERVAL;VALUE=DURATION:PT1H
X-Robots-Tag:noindex
X-PUBLISHED-TTL:PT1H
BEGIN:VTIMEZONE
TZID:Australia/Sydney
BEGIN:STANDARD
TZOFFSETFROM:+1100
TZOFFSETTO:+1000
TZNAME:AEST
DTSTART:20230401T160000
END:STANDARD
BEGIN:DAYLIGHT
TZOFFSETFROM:+1000
TZOFFSETTO:+1100
TZNAME:AEDT
DTSTART:20230930T160000
END:DAYLIGHT
BEGIN:STANDARD
TZOFFSETFROM:+1100
TZOFFSETTO:+1000
TZNAME:AEST
DTSTART:20240406T160000
END:STANDARD
BEGIN:DAYLIGHT
TZOFFSETFROM:+1000
TZOFFSETTO:+1100
TZNAME:AEDT
DTSTART:20241005T160000
END:DAYLIGHT
BEGIN:STANDARD
TZOFFSETFROM:+1100
TZOFFSETTO:+1000
TZNAME:AEST
DTSTART:20250405T160000
END:STANDARD
BEGIN:DAYLIGHT
TZOFFSETFROM:+1000
TZOFFSETTO:+1100
TZNAME:AEDT
DTSTART:20251004T160000
END:DAYLIGHT
END:VTIMEZONE
BEGIN:VEVENT
DTSTART;TZID=Australia/Sydney:20241201T110000
DTEND;TZID=Australia/Sydney:20241201T160000
DTSTAMP:20260423T232502
CREATED:20240930T024333Z
LAST-MODIFIED:20240930T024344Z
UID:2959-1733050800-1733068800@kytherianassociation.com.au
SUMMARY:KAA Children's Christmas Picnic
DESCRIPTION:KAA Children’s Christmas Picnic \nSunday 1 December 2024 \n11am – 4pm \nKokoda Track Memorial Walkway\, Rhodes Park – Killoola Street\, Concord West \nBookings www.trybooking.com/CVTEP \nMember child $30; Non member child $35
URL:https://kytherianassociation.com.au/event/kaa-childrens-christmas-picnic/
LOCATION:Kokoda Track Memorial Walkway Rhodes Park\, Killoola Street\, Concord West\, Australia
CATEGORIES:Family,KAA,Kytherian Four Wheel Drive Club,Kytherian Young Families Group
ATTACH;FMTTYPE=image/jpeg:https://kytherianassociation.com.au/wp-content/uploads/2024/09/Christmas-Picnic-2024.jpg
END:VEVENT
END:VCALENDAR