BEGIN:VCALENDAR
VERSION:2.0
PRODID:-//Kytherian Association of Australia - ECPv6.15.20//NONSGML v1.0//EN
CALSCALE:GREGORIAN
METHOD:PUBLISH
X-WR-CALNAME:Kytherian Association of Australia
X-ORIGINAL-URL:https://kytherianassociation.com.au
X-WR-CALDESC:Events for Kytherian Association of Australia
REFRESH-INTERVAL;VALUE=DURATION:PT1H
X-Robots-Tag:noindex
X-PUBLISHED-TTL:PT1H
BEGIN:VTIMEZONE
TZID:Australia/Sydney
BEGIN:STANDARD
TZOFFSETFROM:+1100
TZOFFSETTO:+1000
TZNAME:AEST
DTSTART:20250405T160000
END:STANDARD
BEGIN:DAYLIGHT
TZOFFSETFROM:+1000
TZOFFSETTO:+1100
TZNAME:AEDT
DTSTART:20251004T160000
END:DAYLIGHT
BEGIN:STANDARD
TZOFFSETFROM:+1100
TZOFFSETTO:+1000
TZNAME:AEST
DTSTART:20260404T160000
END:STANDARD
BEGIN:DAYLIGHT
TZOFFSETFROM:+1000
TZOFFSETTO:+1100
TZNAME:AEDT
DTSTART:20261003T160000
END:DAYLIGHT
BEGIN:STANDARD
TZOFFSETFROM:+1100
TZOFFSETTO:+1000
TZNAME:AEST
DTSTART:20270403T160000
END:STANDARD
BEGIN:DAYLIGHT
TZOFFSETFROM:+1000
TZOFFSETTO:+1100
TZNAME:AEDT
DTSTART:20271002T160000
END:DAYLIGHT
END:VTIMEZONE
BEGIN:VEVENT
DTSTART;TZID=Australia/Sydney:20260315T120000
DTEND;TZID=Australia/Sydney:20260315T170000
DTSTAMP:20260421T221039
CREATED:20251125T011728Z
LAST-MODIFIED:20260128T022249Z
UID:3699-1773576000-1773594000@kytherianassociation.com.au
SUMMARY:Greek Wine Appreciation Event
DESCRIPTION:15 March 2026 @ 12pm \nKAA in Conjuction with the Samian Brotherhood of Sydney & NSW \nTradition Meets Taste – Sample a curated selection of Greek wines. Robust reds\, crisp whites and dessert wines. Gourmet cuisine paired with each wine. History\, regions & unique characteristics of Greek wines. Enjoy the ware ambience of Greek hospitality. \n$90 – includes 4 course meal paired with wines \nBookings:  www.trybooking.com/DHMBA \nEnquiries:  Peter Tzannes 0419 993 000  | Gloria Tzannes 0417 020 005
URL:https://kytherianassociation.com.au/event/greek-wine-appreciation-event/
LOCATION:The Grand Roxy\, 128 The Grand Parade\, Brighton-Le-Sands\, NSW\, 2216\, Australia
CATEGORIES:KAA,KAWK - Kytherian Association Wine Club
ATTACH;FMTTYPE=image/jpeg:https://kytherianassociation.com.au/wp-content/uploads/2026/01/Hellenic-Wine-Tasting-Lunch-Flyer-2026-002-1.jpg
END:VEVENT
END:VCALENDAR