BEGIN:VCALENDAR
VERSION:2.0
PRODID:-//Kytherian Association of Australia - ECPv6.15.20//NONSGML v1.0//EN
CALSCALE:GREGORIAN
METHOD:PUBLISH
X-WR-CALNAME:Kytherian Association of Australia
X-ORIGINAL-URL:https://kytherianassociation.com.au
X-WR-CALDESC:Events for Kytherian Association of Australia
REFRESH-INTERVAL;VALUE=DURATION:PT1H
X-Robots-Tag:noindex
X-PUBLISHED-TTL:PT1H
BEGIN:VTIMEZONE
TZID:Australia/Sydney
BEGIN:STANDARD
TZOFFSETFROM:+1100
TZOFFSETTO:+1000
TZNAME:AEST
DTSTART:20250405T160000
END:STANDARD
BEGIN:DAYLIGHT
TZOFFSETFROM:+1000
TZOFFSETTO:+1100
TZNAME:AEDT
DTSTART:20251004T160000
END:DAYLIGHT
BEGIN:STANDARD
TZOFFSETFROM:+1100
TZOFFSETTO:+1000
TZNAME:AEST
DTSTART:20260404T160000
END:STANDARD
BEGIN:DAYLIGHT
TZOFFSETFROM:+1000
TZOFFSETTO:+1100
TZNAME:AEDT
DTSTART:20261003T160000
END:DAYLIGHT
BEGIN:STANDARD
TZOFFSETFROM:+1100
TZOFFSETTO:+1000
TZNAME:AEST
DTSTART:20270403T160000
END:STANDARD
BEGIN:DAYLIGHT
TZOFFSETFROM:+1000
TZOFFSETTO:+1100
TZNAME:AEDT
DTSTART:20271002T160000
END:DAYLIGHT
END:VTIMEZONE
BEGIN:VEVENT
DTSTART;TZID=Australia/Sydney:20260517T010000
DTEND;TZID=Australia/Sydney:20260517T030000
DTSTAMP:20260426T003234
CREATED:20260128T031647Z
LAST-MODIFIED:20260310T005802Z
UID:3781-1778979600-1778986800@kytherianassociation.com.au
SUMMARY:Kytherian Debutante Ball AFTER PARTY
DESCRIPTION:Kytherian Ball AFTER PARTY\n17th May 2026 \nRoyal Randwick Racecourse – Moet Bar \n1am – 3am \nFREE for all ball attendees Year 10+ (ID required for over 18’s) \n$35 for all non ball attendees (one time entry only) \nBookings:   www.trybooking.com/DJJJW \n \n 
URL:https://kytherianassociation.com.au/event/kytherian-debutante-ball-after-party/
LOCATION:Australian Turf Club\, Royal Randwick\, Allison Road\, Randwick\, NSW\, 2031\, Australia
CATEGORIES:KAA,Kytherian Ball
ATTACH;FMTTYPE=image/jpeg:https://kytherianassociation.com.au/wp-content/uploads/2026/01/2026-Kytherian-Ball-After-Party-Flyer.jpg
END:VEVENT
BEGIN:VEVENT
DTSTART;TZID=Australia/Sydney:20260527T183000
DTEND;TZID=Australia/Sydney:20260527T220000
DTSTAMP:20260426T003234
CREATED:20260128T031810Z
LAST-MODIFIED:20260128T031810Z
UID:3784-1779906600-1779919200@kytherianassociation.com.au
SUMMARY:AGM & ELECTION
DESCRIPTION:SAVE THE DATE\n27 May 2026 \nDetails to follow
URL:https://kytherianassociation.com.au/event/agm-election/
LOCATION:NSW
CATEGORIES:KAA
END:VEVENT
BEGIN:VEVENT
DTSTART;VALUE=DATE:20260531
DTEND;VALUE=DATE:20260601
DTSTAMP:20260426T003234
CREATED:20260310T010008Z
LAST-MODIFIED:20260310T010008Z
UID:3848-1780185600-1780271999@kytherianassociation.com.au
SUMMARY:KYFG Teppenyaki Night
DESCRIPTION:SAVE THE DATE!\nKYFG Teppenyaki Night \nDetails to follow
URL:https://kytherianassociation.com.au/event/kyfg-teppenyaki-night/
LOCATION:NSW
CATEGORIES:Family,KAA,Kytherian Young Families Group
END:VEVENT
BEGIN:VEVENT
DTSTART;VALUE=DATE:20260614
DTEND;VALUE=DATE:20260615
DTSTAMP:20260426T003234
CREATED:20260128T032001Z
LAST-MODIFIED:20260414T064335Z
UID:3787-1781395200-1781481599@kytherianassociation.com.au
SUMMARY:Hellenic Bowling Competition
DESCRIPTION:SAVE THE DATE\n14 June 2026 \nMore details to follow
URL:https://kytherianassociation.com.au/event/hellenic-bowling-competition/
LOCATION:Zone Bowling Southgate Sylvania\, 27 Port Hacking Road\, Sylvania\, NSW\, 2224\, Australia
CATEGORIES:KAA
END:VEVENT
BEGIN:VEVENT
DTSTART;VALUE=DATE:20260626
DTEND;VALUE=DATE:20260627
DTSTAMP:20260426T003234
CREATED:20260310T010129Z
LAST-MODIFIED:20260414T064127Z
UID:3852-1782432000-1782518399@kytherianassociation.com.au
SUMMARY:Islands of Origin Trivia Night
DESCRIPTION:SAVE THE DATE!\nIslands of Origin Trivia Night – 26 JUNE 2026 \n\nDetails to follow
URL:https://kytherianassociation.com.au/event/islands-of-origin-trivia-night/
LOCATION:The Castellorizian\, Level 1\, 2/127 Houston Road\, Kingsford\, NSW\, 2032\, Australia
CATEGORIES:KAA
END:VEVENT
BEGIN:VEVENT
DTSTART;TZID=Australia/Sydney:20261106T080000
DTEND;TZID=Australia/Sydney:20261108T170000
DTSTAMP:20260426T003234
CREATED:20260128T032140Z
LAST-MODIFIED:20260128T032140Z
UID:3790-1793952000-1794157200@kytherianassociation.com.au
SUMMARY:Back to our Roots MURRAY/RIVERINA
DESCRIPTION:SAVE THE DATE\n6-8 November 2026 \nMore details to follow
URL:https://kytherianassociation.com.au/event/back-to-our-roots-murray-riverina/
LOCATION:NSW
CATEGORIES:KAA
END:VEVENT
END:VCALENDAR