BEGIN:VCALENDAR
VERSION:2.0
PRODID:-//Kytherian Association of Australia - ECPv6.15.20//NONSGML v1.0//EN
CALSCALE:GREGORIAN
METHOD:PUBLISH
X-ORIGINAL-URL:https://kytherianassociation.com.au
X-WR-CALDESC:Events for Kytherian Association of Australia
REFRESH-INTERVAL;VALUE=DURATION:PT1H
X-Robots-Tag:noindex
X-PUBLISHED-TTL:PT1H
BEGIN:VTIMEZONE
TZID:Australia/Sydney
BEGIN:STANDARD
TZOFFSETFROM:+1100
TZOFFSETTO:+1000
TZNAME:AEST
DTSTART:20250405T160000
END:STANDARD
BEGIN:DAYLIGHT
TZOFFSETFROM:+1000
TZOFFSETTO:+1100
TZNAME:AEDT
DTSTART:20251004T160000
END:DAYLIGHT
BEGIN:STANDARD
TZOFFSETFROM:+1100
TZOFFSETTO:+1000
TZNAME:AEST
DTSTART:20260404T160000
END:STANDARD
BEGIN:DAYLIGHT
TZOFFSETFROM:+1000
TZOFFSETTO:+1100
TZNAME:AEDT
DTSTART:20261003T160000
END:DAYLIGHT
BEGIN:STANDARD
TZOFFSETFROM:+1100
TZOFFSETTO:+1000
TZNAME:AEST
DTSTART:20270403T160000
END:STANDARD
BEGIN:DAYLIGHT
TZOFFSETFROM:+1000
TZOFFSETTO:+1100
TZNAME:AEDT
DTSTART:20271002T160000
END:DAYLIGHT
END:VTIMEZONE
BEGIN:VEVENT
DTSTART;TZID=Australia/Sydney:20260516T183000
DTEND;TZID=Australia/Sydney:20260516T235900
DTSTAMP:20260425T015013
CREATED:20250729T032600Z
LAST-MODIFIED:20260310T005511Z
UID:3569-1778956200-1778975940@kytherianassociation.com.au
SUMMARY:2026 Kytherian Debutante Ball
DESCRIPTION:2026 Kytherian Debutante Ball\nSATURDAY 16 MAY 2026 \nRoyal Randwick Ballroom\, Australian Turf Club Royal Randwick \nGuest of Honour – MARK BOURIS AM\n$260 \nBookings: www.trybooking.com/DJJJT \nEnquiries: Kathy Samios 0410 491 849 \n \n  \n 
URL:https://kytherianassociation.com.au/event/2026-kytherian-debutante-ball/
LOCATION:Australian Turf Club\, Royal Randwick\, Allison Road\, Randwick\, NSW\, 2031\, Australia
CATEGORIES:KAA,Kytherian Ball
ATTACH;FMTTYPE=image/jpeg:https://kytherianassociation.com.au/wp-content/uploads/2026/01/2026-Kytherian-Ball-Flyer.jpg
END:VEVENT
END:VCALENDAR