BEGIN:VCALENDAR
VERSION:2.0
PRODID:-//Kytherian Association of Australia - ECPv6.15.20//NONSGML v1.0//EN
CALSCALE:GREGORIAN
METHOD:PUBLISH
X-ORIGINAL-URL:https://kytherianassociation.com.au
X-WR-CALDESC:Events for Kytherian Association of Australia
REFRESH-INTERVAL;VALUE=DURATION:PT1H
X-Robots-Tag:noindex
X-PUBLISHED-TTL:PT1H
BEGIN:VTIMEZONE
TZID:Australia/Sydney
BEGIN:STANDARD
TZOFFSETFROM:+1100
TZOFFSETTO:+1000
TZNAME:AEST
DTSTART:20250405T160000
END:STANDARD
BEGIN:DAYLIGHT
TZOFFSETFROM:+1000
TZOFFSETTO:+1100
TZNAME:AEDT
DTSTART:20251004T160000
END:DAYLIGHT
BEGIN:STANDARD
TZOFFSETFROM:+1100
TZOFFSETTO:+1000
TZNAME:AEST
DTSTART:20260404T160000
END:STANDARD
BEGIN:DAYLIGHT
TZOFFSETFROM:+1000
TZOFFSETTO:+1100
TZNAME:AEDT
DTSTART:20261003T160000
END:DAYLIGHT
BEGIN:STANDARD
TZOFFSETFROM:+1100
TZOFFSETTO:+1000
TZNAME:AEST
DTSTART:20270403T160000
END:STANDARD
BEGIN:DAYLIGHT
TZOFFSETFROM:+1000
TZOFFSETTO:+1100
TZNAME:AEDT
DTSTART:20271002T160000
END:DAYLIGHT
END:VTIMEZONE
BEGIN:VEVENT
DTSTART;TZID=Australia/Sydney:20260215T090000
DTEND;TZID=Australia/Sydney:20260215T160000
DTSTAMP:20260425T001620
CREATED:20251013T051810Z
LAST-MODIFIED:20260128T032629Z
UID:3609-1771146000-1771171200@kytherianassociation.com.au
SUMMARY:2026 Karavitiko Symposium
DESCRIPTION:SOLD OUT\n2026 Karavitiko Symposium \nSunday 15 February 2026 \nJoin us to celebrate the Feast Day of Agios Haralambos. \n9am Liturgy @ Kogarah Greek Orthodox Church\, followed by lunch at the The Kyle Bay on Georges River\, 11.30am to 4pm. \n$105 + booking fee – includes 3 course lunch and drinks. \nBookings www.trybooking.com/DHKPY \nEnquiries:  Peter 0410 274 538 |  Marianna 0409 502 775  | George 0407 499 117  | Kyrranne  0402 060 657
URL:https://kytherianassociation.com.au/event/2026-karavitiko-symposium/
LOCATION:The Kyle Bay\, 12 Merriman Street\, Kyle Bay\, NSW\, 2221\, Australia
CATEGORIES:KAA,Karavitiko Symposium
ATTACH;FMTTYPE=image/jpeg:https://kytherianassociation.com.au/wp-content/uploads/2026/01/Karavitiko-sold-out.jpg
END:VEVENT
END:VCALENDAR