BEGIN:VCALENDAR
VERSION:2.0
PRODID:-//Kytherian Association of Australia - ECPv6.15.20//NONSGML v1.0//EN
CALSCALE:GREGORIAN
METHOD:PUBLISH
X-WR-CALNAME:Kytherian Association of Australia
X-ORIGINAL-URL:https://kytherianassociation.com.au
X-WR-CALDESC:Events for Kytherian Association of Australia
REFRESH-INTERVAL;VALUE=DURATION:PT1H
X-Robots-Tag:noindex
X-PUBLISHED-TTL:PT1H
BEGIN:VTIMEZONE
TZID:Australia/Sydney
BEGIN:STANDARD
TZOFFSETFROM:+1100
TZOFFSETTO:+1000
TZNAME:AEST
DTSTART:20240406T160000
END:STANDARD
BEGIN:DAYLIGHT
TZOFFSETFROM:+1000
TZOFFSETTO:+1100
TZNAME:AEDT
DTSTART:20241005T160000
END:DAYLIGHT
BEGIN:STANDARD
TZOFFSETFROM:+1100
TZOFFSETTO:+1000
TZNAME:AEST
DTSTART:20250405T160000
END:STANDARD
BEGIN:DAYLIGHT
TZOFFSETFROM:+1000
TZOFFSETTO:+1100
TZNAME:AEDT
DTSTART:20251004T160000
END:DAYLIGHT
BEGIN:STANDARD
TZOFFSETFROM:+1100
TZOFFSETTO:+1000
TZNAME:AEST
DTSTART:20260404T160000
END:STANDARD
BEGIN:DAYLIGHT
TZOFFSETFROM:+1000
TZOFFSETTO:+1100
TZNAME:AEDT
DTSTART:20261003T160000
END:DAYLIGHT
END:VTIMEZONE
BEGIN:VEVENT
DTSTART;TZID=Australia/Sydney:20251212T193000
DTEND;TZID=Australia/Sydney:20251212T193000
DTSTAMP:20260425T050234
CREATED:20250729T032726Z
LAST-MODIFIED:20251029T014133Z
UID:3572-1765567800-1765567800@kytherianassociation.com.au
SUMMARY:KAA Taverna Night
DESCRIPTION:KAA Taverna Night\n12 December 2025 \n7.30PM – 12AM \nSteki Taverna\, 149 Enmore Road\, Enmore \n18+ event \nLive Music and Dancing \n$125pp (price includes classic shared Greek dishes\, dessert\, 4.5hr alcohol package\, tea & coffee \nBookings: https://www.trybooking.com/DFXCQ (bookings close 5.12.25) \nFor more information contact Melissa 0450 380 162  | Barbara 0412 060 657
URL:https://kytherianassociation.com.au/event/kaa-christmas-taverna-night/
LOCATION:Steki Taverna\, 149 Enmore Road\, Enmore\, NSW\, 2042\, Australia
CATEGORIES:KAA,Ladies Auxiliary
ATTACH;FMTTYPE=image/jpeg:https://kytherianassociation.com.au/wp-content/uploads/2025/10/Taverna-Night.jpg
END:VEVENT
END:VCALENDAR