BEGIN:VCALENDAR
VERSION:2.0
PRODID:-//Kytherian Association of Australia - ECPv6.15.20//NONSGML v1.0//EN
CALSCALE:GREGORIAN
METHOD:PUBLISH
X-ORIGINAL-URL:https://kytherianassociation.com.au
X-WR-CALDESC:Events for Kytherian Association of Australia
REFRESH-INTERVAL;VALUE=DURATION:PT1H
X-Robots-Tag:noindex
X-PUBLISHED-TTL:PT1H
BEGIN:VTIMEZONE
TZID:Australia/Sydney
BEGIN:STANDARD
TZOFFSETFROM:+1100
TZOFFSETTO:+1000
TZNAME:AEST
DTSTART:20240406T160000
END:STANDARD
BEGIN:DAYLIGHT
TZOFFSETFROM:+1000
TZOFFSETTO:+1100
TZNAME:AEDT
DTSTART:20241005T160000
END:DAYLIGHT
BEGIN:STANDARD
TZOFFSETFROM:+1100
TZOFFSETTO:+1000
TZNAME:AEST
DTSTART:20250405T160000
END:STANDARD
BEGIN:DAYLIGHT
TZOFFSETFROM:+1000
TZOFFSETTO:+1100
TZNAME:AEDT
DTSTART:20251004T160000
END:DAYLIGHT
BEGIN:STANDARD
TZOFFSETFROM:+1100
TZOFFSETTO:+1000
TZNAME:AEST
DTSTART:20260404T160000
END:STANDARD
BEGIN:DAYLIGHT
TZOFFSETFROM:+1000
TZOFFSETTO:+1100
TZNAME:AEDT
DTSTART:20261003T160000
END:DAYLIGHT
END:VTIMEZONE
BEGIN:VEVENT
DTSTART;TZID=Australia/Sydney:20251104T120000
DTEND;TZID=Australia/Sydney:20251104T160000
DTSTAMP:20260425T063832
CREATED:20250505T061007Z
LAST-MODIFIED:20250729T031221Z
UID:3358-1762257600-1762272000@kytherianassociation.com.au
SUMMARY:Melbourne Cup 2025 - with the Kytherian Ladies Aux & The Castellorizian Assoc of NSW
DESCRIPTION:LADIES & GENTLEMEN\, YOU ARE INVITED TO OUR \nMelbourne Cup 2025 – with the Kytherian Ladies Aux & The Castellorizian Assoc of NSW\n4th November 2025 \n12.00 pm-4.00 pm \nNicks Seafood Restaurant\, Cockle Bay Wharf\, Darling Harbour \n$140pp (includes 2 course meal + 3 hour alcoholic beverage package) \nOptional transport to and from venue: Pick-up and drop off from either Juniors or Carss Park $12 return \nBookings:  www.trybooking.com/DDKWM \nEnquiries: Melissa Miltiades – 0450380162; Barbara Zantiotis – 0412060657
URL:https://kytherianassociation.com.au/event/melbourne-cup-2025-with-the-kytherian-ladies-aux-the-castellorizian-assoc-of-nsw/
LOCATION:Nick’s Seafood Restaurant\, Cockle Bay Wharf\, Darling Harbour\, NSW\, 2000\, Australia
CATEGORIES:KAA,Ladies Auxiliary
ATTACH;FMTTYPE=image/jpeg:https://kytherianassociation.com.au/wp-content/uploads/2025/07/Final-Melbourne-Cup-Lunch-Invitation-scaled.jpg
END:VEVENT
END:VCALENDAR