BEGIN:VCALENDAR
VERSION:2.0
PRODID:-//Kytherian Association of Australia - ECPv6.15.20//NONSGML v1.0//EN
CALSCALE:GREGORIAN
METHOD:PUBLISH
X-WR-CALNAME:Kytherian Association of Australia
X-ORIGINAL-URL:https://kytherianassociation.com.au
X-WR-CALDESC:Events for Kytherian Association of Australia
REFRESH-INTERVAL;VALUE=DURATION:PT1H
X-Robots-Tag:noindex
X-PUBLISHED-TTL:PT1H
BEGIN:VTIMEZONE
TZID:Australia/Sydney
BEGIN:STANDARD
TZOFFSETFROM:+1100
TZOFFSETTO:+1000
TZNAME:AEST
DTSTART:20240406T160000
END:STANDARD
BEGIN:DAYLIGHT
TZOFFSETFROM:+1000
TZOFFSETTO:+1100
TZNAME:AEDT
DTSTART:20241005T160000
END:DAYLIGHT
BEGIN:STANDARD
TZOFFSETFROM:+1100
TZOFFSETTO:+1000
TZNAME:AEST
DTSTART:20250405T160000
END:STANDARD
BEGIN:DAYLIGHT
TZOFFSETFROM:+1000
TZOFFSETTO:+1100
TZNAME:AEDT
DTSTART:20251004T160000
END:DAYLIGHT
BEGIN:STANDARD
TZOFFSETFROM:+1100
TZOFFSETTO:+1000
TZNAME:AEST
DTSTART:20260404T160000
END:STANDARD
BEGIN:DAYLIGHT
TZOFFSETFROM:+1000
TZOFFSETTO:+1100
TZNAME:AEDT
DTSTART:20261003T160000
END:DAYLIGHT
END:VTIMEZONE
BEGIN:VEVENT
DTSTART;TZID=Australia/Sydney:20251015T193000
DTEND;TZID=Australia/Sydney:20251015T220000
DTSTAMP:20260425T081849
CREATED:20250604T064618Z
LAST-MODIFIED:20250729T025154Z
UID:3433-1760556600-1760565600@kytherianassociation.com.au
SUMMARY:Greek Cafes & Milk Bars - LECTURE & FUNDRAISER
DESCRIPTION:AHEPA NSW & KWHF invite you to join us for a LECTURE & FUNDRAISER\n**NEW DATE** \n15 October @ 7.30pm \nAHEPA Hall\, 394 Princes Highway\, Rockdale \nGREEK CAFES & MILK BARS OF AUSTRALIA \nJoin us as Leonard Janiszewski & EffyAlexakis the renowned historian and documentary photographer and creators of the In Their Own Image: Greek-Australians National Project Archive deliver an enthralling presentation on a history familiar to many Greek and Kytherian families in Australia. \nIn every suburb and country town was the Greek cafe or mil bar – open all hours\, 7 days a week.  These family-based food-catering enterprises ‘transformed’ Australian popular culture. \nJaniszewski’s and Alexakis’ presentation will not only investigate the overall development of Greek cafes an milk bars across Australia\, but also the personal stories of those involved – proprietors\, waiting staff and customers. \nThis lecture is a fundraiser event for the digitisation of the In Their Own Image: Greek-Australians National Project Archive with the State Library of New South Wales. \nREGISTER TODAY – FREE ENTRY www.trybooking.com/DCCJB \nTo donate: www.sl.nsw.gov.au/give Donations tax deductible. Plus proceeds from all books sold on the night will be donated.
URL:https://kytherianassociation.com.au/event/greek-cafes-milk-bars-lecture-fundraiser/
LOCATION:AHEPA Hall\, 394-396 Princes Highway\, Rockdale\, NSW\, 2216\, Australia
CATEGORIES:KAA,Kytherian World Heritage Fund
ATTACH;FMTTYPE=image/png:https://kytherianassociation.com.au/wp-content/uploads/2025/07/OCTOBER-15-Greek-milk-bars-flyer-1-002.png
END:VEVENT
END:VCALENDAR