BEGIN:VCALENDAR
VERSION:2.0
PRODID:-//Kytherian Association of Australia - ECPv6.15.20//NONSGML v1.0//EN
CALSCALE:GREGORIAN
METHOD:PUBLISH
X-WR-CALNAME:Kytherian Association of Australia
X-ORIGINAL-URL:https://kytherianassociation.com.au
X-WR-CALDESC:Events for Kytherian Association of Australia
REFRESH-INTERVAL;VALUE=DURATION:PT1H
X-Robots-Tag:noindex
X-PUBLISHED-TTL:PT1H
BEGIN:VTIMEZONE
TZID:Australia/Sydney
BEGIN:STANDARD
TZOFFSETFROM:+1100
TZOFFSETTO:+1000
TZNAME:AEST
DTSTART:20240406T160000
END:STANDARD
BEGIN:DAYLIGHT
TZOFFSETFROM:+1000
TZOFFSETTO:+1100
TZNAME:AEDT
DTSTART:20241005T160000
END:DAYLIGHT
BEGIN:STANDARD
TZOFFSETFROM:+1100
TZOFFSETTO:+1000
TZNAME:AEST
DTSTART:20250405T160000
END:STANDARD
BEGIN:DAYLIGHT
TZOFFSETFROM:+1000
TZOFFSETTO:+1100
TZNAME:AEDT
DTSTART:20251004T160000
END:DAYLIGHT
BEGIN:STANDARD
TZOFFSETFROM:+1100
TZOFFSETTO:+1000
TZNAME:AEST
DTSTART:20260404T160000
END:STANDARD
BEGIN:DAYLIGHT
TZOFFSETFROM:+1000
TZOFFSETTO:+1100
TZNAME:AEDT
DTSTART:20261003T160000
END:DAYLIGHT
END:VTIMEZONE
BEGIN:VEVENT
DTSTART;TZID=Australia/Sydney:20250914T110000
DTEND;TZID=Australia/Sydney:20250914T160000
DTSTAMP:20260425T094142
CREATED:20250729T011000Z
LAST-MODIFIED:20250729T011000Z
UID:3527-1757847600-1757865600@kytherianassociation.com.au
SUMMARY:Father's Day Picnic
DESCRIPTION:Fathers Day Picnic\nEnjoy a relaxing day with family and friends to celebrate the dads in our lives. A FREE sausage sizzle will be provided. BYO anything else you need. \n  \nMeet at Carss Park Life Saving Hall\, Carwar Avenue\, Carss Park \nSunday 14 September 2025\, 11am-4pm \nBookings:  www.trybooking.com/DDPQU
URL:https://kytherianassociation.com.au/event/fathers-day-picnic-2/
LOCATION:Carss Park Life Saving Hall\, Carwar Avenue\, Carss Park\, NSW\, 2221\, Australia
CATEGORIES:Family,KAA,Kytherian Four Wheel Drive Club
ATTACH;FMTTYPE=image/png:https://kytherianassociation.com.au/wp-content/uploads/2025/07/Fathers-Day-flyer.png
END:VEVENT
END:VCALENDAR