BEGIN:VCALENDAR
VERSION:2.0
PRODID:-//Kytherian Association of Australia - ECPv6.15.20//NONSGML v1.0//EN
CALSCALE:GREGORIAN
METHOD:PUBLISH
X-WR-CALNAME:Kytherian Association of Australia
X-ORIGINAL-URL:https://kytherianassociation.com.au
X-WR-CALDESC:Events for Kytherian Association of Australia
REFRESH-INTERVAL;VALUE=DURATION:PT1H
X-Robots-Tag:noindex
X-PUBLISHED-TTL:PT1H
BEGIN:VTIMEZONE
TZID:Australia/Sydney
BEGIN:STANDARD
TZOFFSETFROM:+1100
TZOFFSETTO:+1000
TZNAME:AEST
DTSTART:20250405T160000
END:STANDARD
BEGIN:DAYLIGHT
TZOFFSETFROM:+1000
TZOFFSETTO:+1100
TZNAME:AEDT
DTSTART:20251004T160000
END:DAYLIGHT
BEGIN:STANDARD
TZOFFSETFROM:+1100
TZOFFSETTO:+1000
TZNAME:AEST
DTSTART:20260404T160000
END:STANDARD
BEGIN:DAYLIGHT
TZOFFSETFROM:+1000
TZOFFSETTO:+1100
TZNAME:AEDT
DTSTART:20261003T160000
END:DAYLIGHT
BEGIN:STANDARD
TZOFFSETFROM:+1100
TZOFFSETTO:+1000
TZNAME:AEST
DTSTART:20270403T160000
END:STANDARD
BEGIN:DAYLIGHT
TZOFFSETFROM:+1000
TZOFFSETTO:+1100
TZNAME:AEDT
DTSTART:20271002T160000
END:DAYLIGHT
END:VTIMEZONE
BEGIN:VEVENT
DTSTART;TZID=Australia/Sydney:20260219T090000
DTEND;TZID=Australia/Sydney:20260308T170000
DTSTAMP:20260424T204216
CREATED:20260128T033340Z
LAST-MODIFIED:20260128T033340Z
UID:3795-1771491600-1772989200@kytherianassociation.com.au
SUMMARY:Geotopo Meet & Greet
DESCRIPTION:Geotopo Meet & Greet \n19th Feb – 8 March \nKythera House by appointment \nThis year\, we’re coming to Australia to showcase Greece\, a land of timeless beauty and rich heritage\, highlighting its hidden gems like the island of Kythera. Discover unique opportunities to buy or sell property\, invest\, or develop land in one of the world’s most captivating destinations. \nWhat we do: Real Estate – Property Solutions – Design & Urban Planning – Construction & Development \n  \nBook an appointment: \nTelephone: +30 693 263 6746 (Available on WhatsΑpp) \nEmail: info@geotopo.gr \nWebsite: www.geotopo.gr
URL:https://kytherianassociation.com.au/event/geotopo-meet-greet/
LOCATION:Kythera House\, 24 King Street\, Rockdale\, NSW\, 2216\, Australia
CATEGORIES:KAA
ATTACH;FMTTYPE=image/jpeg:https://kytherianassociation.com.au/wp-content/uploads/2026/01/GEOTOPO-One-Page-reduce-size-Without-Bleed-scaled.jpg
END:VEVENT
BEGIN:VEVENT
DTSTART;TZID=Australia/Sydney:20260315T120000
DTEND;TZID=Australia/Sydney:20260315T170000
DTSTAMP:20260424T204216
CREATED:20251125T011728Z
LAST-MODIFIED:20260128T022249Z
UID:3699-1773576000-1773594000@kytherianassociation.com.au
SUMMARY:Greek Wine Appreciation Event
DESCRIPTION:15 March 2026 @ 12pm \nKAA in Conjuction with the Samian Brotherhood of Sydney & NSW \nTradition Meets Taste – Sample a curated selection of Greek wines. Robust reds\, crisp whites and dessert wines. Gourmet cuisine paired with each wine. History\, regions & unique characteristics of Greek wines. Enjoy the ware ambience of Greek hospitality. \n$90 – includes 4 course meal paired with wines \nBookings:  www.trybooking.com/DHMBA \nEnquiries:  Peter Tzannes 0419 993 000  | Gloria Tzannes 0417 020 005
URL:https://kytherianassociation.com.au/event/greek-wine-appreciation-event/
LOCATION:The Grand Roxy\, 128 The Grand Parade\, Brighton-Le-Sands\, NSW\, 2216\, Australia
CATEGORIES:KAA,KAWK - Kytherian Association Wine Club
ATTACH;FMTTYPE=image/jpeg:https://kytherianassociation.com.au/wp-content/uploads/2026/01/Hellenic-Wine-Tasting-Lunch-Flyer-2026-002-1.jpg
END:VEVENT
BEGIN:VEVENT
DTSTART;TZID=Australia/Sydney:20260321T093000
DTEND;TZID=Australia/Sydney:20260321T153000
DTSTAMP:20260424T204216
CREATED:20260128T024532Z
LAST-MODIFIED:20260128T024532Z
UID:3762-1774085400-1774107000@kytherianassociation.com.au
SUMMARY:Hellenic Wine Making Event
DESCRIPTION:Make your own wine\n21 March 2026 \nKytherian Association Wine Klub (KAWK) in conjunction with the Samian Brotherhood of Sydney and NSW \nSamian House\, 61-65 Kingsway\, Kingsgrove \n9.30am – 3.30pm \nRelax\, make wine\, see the wine making process\, all ages welcome\, socialise \nCost: \nCatering-FREE (booking essential for catering purposes) \nMaking wine and/or purchasing Must for Moustalevria (grape must pudding) \n\n25L grape muust (take home to ferment into wine) $75\nEquipment (one-off cost for new wine makers) $60\n1L ready-to-use grape must for moustalevria $12\n1L raw grape must (needs preparation before use) $5\n\nBOOKINGS ESSENTIAL BY 12 MARCH: https://www.trybooking.com/DIVYF \nEnquiries: kawk@kytherianassociation.com.au ; Peter Tzannes 0419 993 000 \n \n 
URL:https://kytherianassociation.com.au/event/hellenic-wine-making-event/
LOCATION:Samian House\, 61-65 Kingsway\, Kingsgrove\, NSW\, 2208\, Australia
CATEGORIES:Family,KAA,KAWK - Kytherian Association Wine Club
ATTACH;FMTTYPE=image/jpeg:https://kytherianassociation.com.au/wp-content/uploads/2026/01/Hellenic-Wine-Day-Flyer-2026-KAA-002.jpg
END:VEVENT
BEGIN:VEVENT
DTSTART;TZID=Australia/Sydney:20260328T190000
DTEND;TZID=Australia/Sydney:20260328T233000
DTSTAMP:20260424T204216
CREATED:20260128T025348Z
LAST-MODIFIED:20260128T025348Z
UID:3765-1774724400-1774740600@kytherianassociation.com.au
SUMMARY:Aroney Dinner Dance
DESCRIPTION:28 MARCH 2026 \nDoltone House Sylvania Waters\, 223 Belgrave St\, Sylvania Waters \n7pm start \nMembers $98; Non-members $103 (price includes food and beverages) \nBOOKINGS:  www.trybooking.com/DIXAV \nBookings close 20.3.26 \nEnquiries: Kathy Samios 0410 491 849 | Maria Karedis 0403 346 942
URL:https://kytherianassociation.com.au/event/aroney-dinner-dance-4/
LOCATION:Doltone House Sylvani Waters\, 223 Belgrave Street\, Sylvania Waters\, NSW\, 2224\, Australia
CATEGORIES:KAA
ATTACH;FMTTYPE=image/jpeg:https://kytherianassociation.com.au/wp-content/uploads/2026/01/Aroney-Dinner-dance-2026.jpg
END:VEVENT
END:VCALENDAR