BEGIN:VCALENDAR
VERSION:2.0
PRODID:-//Kytherian Association of Australia - ECPv6.15.20//NONSGML v1.0//EN
CALSCALE:GREGORIAN
METHOD:PUBLISH
X-ORIGINAL-URL:https://kytherianassociation.com.au
X-WR-CALDESC:Events for Kytherian Association of Australia
REFRESH-INTERVAL;VALUE=DURATION:PT1H
X-Robots-Tag:noindex
X-PUBLISHED-TTL:PT1H
BEGIN:VTIMEZONE
TZID:Australia/Sydney
BEGIN:STANDARD
TZOFFSETFROM:+1100
TZOFFSETTO:+1000
TZNAME:AEST
DTSTART:20240406T160000
END:STANDARD
BEGIN:DAYLIGHT
TZOFFSETFROM:+1000
TZOFFSETTO:+1100
TZNAME:AEDT
DTSTART:20241005T160000
END:DAYLIGHT
BEGIN:STANDARD
TZOFFSETFROM:+1100
TZOFFSETTO:+1000
TZNAME:AEST
DTSTART:20250405T160000
END:STANDARD
BEGIN:DAYLIGHT
TZOFFSETFROM:+1000
TZOFFSETTO:+1100
TZNAME:AEDT
DTSTART:20251004T160000
END:DAYLIGHT
BEGIN:STANDARD
TZOFFSETFROM:+1100
TZOFFSETTO:+1000
TZNAME:AEST
DTSTART:20260404T160000
END:STANDARD
BEGIN:DAYLIGHT
TZOFFSETFROM:+1000
TZOFFSETTO:+1100
TZNAME:AEDT
DTSTART:20261003T160000
END:DAYLIGHT
END:VTIMEZONE
BEGIN:VEVENT
DTSTART;VALUE=DATE:20251003
DTEND;VALUE=DATE:20251007
DTSTAMP:20260425T063342
CREATED:20250312T064011Z
LAST-MODIFIED:20250729T022824Z
UID:3277-1759449600-1759795199@kytherianassociation.com.au
SUMMARY:Dubbo & Surrounding Towns Weekend Away
DESCRIPTION:Kytherian Association Australia has organised another\nBACK TO OUR ROOTS in DUBBO & SURROUNDING TOWNS\nSAVE THE DATE! \n3 October 2025 – 6 October 2025 (October long weekend)
URL:https://kytherianassociation.com.au/event/dubbo-surrounding-towns-weekend-away/
LOCATION:Dubbo\, Dubbo\, NS\, 2830\, Australia
CATEGORIES:Family,KAA
ATTACH;FMTTYPE=image/jpeg:https://kytherianassociation.com.au/wp-content/uploads/2025/07/Dubbo-itinerary.jpg
END:VEVENT
BEGIN:VEVENT
DTSTART;TZID=Australia/Sydney:20251004T093000
DTEND;TZID=Australia/Sydney:20251004T140000
DTSTAMP:20260425T063342
CREATED:20250729T024455Z
LAST-MODIFIED:20250729T024455Z
UID:3550-1759570200-1759586400@kytherianassociation.com.au
SUMMARY:Dubbo City Bus Tour
DESCRIPTION:Dubbo City Bus Tour\nSaturday 4 October 2025 \n9.30am-2.00pm \nJoin us for a tour around Dubbo visiting the sites of past Greek cafes\, some family homes and the Dubbo Cemetery. Meeting point – Dubbo RSL Memorial Club\, 178 Brisbane St\, Dubbo. \n$20 pp \nBookings :  www.trybooking.com/DDLRH \nBookings close 14.9.25. This tour will go ahead if there are enough people to fill the bus. If we need to cancel\, all payments will be refunded. \nFor more information\, contact Barbara on 0412060 657
URL:https://kytherianassociation.com.au/event/dubbo-city-bus-tour/
LOCATION:Dubbo RSL Memorial Club\, 178 Brisbane Street\, Dubbo\, NSW\, 2830\, Australia
CATEGORIES:Family,KAA
ATTACH;FMTTYPE=image/jpeg:https://kytherianassociation.com.au/wp-content/uploads/2025/07/Dubbo-bus-tour.jpg
END:VEVENT
BEGIN:VEVENT
DTSTART;TZID=Australia/Sydney:20251004T183000
DTEND;TZID=Australia/Sydney:20251004T233000
DTSTAMP:20260425T063342
CREATED:20250729T023238Z
LAST-MODIFIED:20250729T023238Z
UID:3540-1759602600-1759620600@kytherianassociation.com.au
SUMMARY:Dubbo Reunion Dinner Dance
DESCRIPTION:Dubbo & Surrounding towns Reunion Dinner Dance\nSaturday 4 October 2025 @ 6.30pm \nDubbo RSL Memorial Club – 178 Brisbane Street\, Dubbo 2830 \n$70pp (price include buffet dinner and dessert\, drinks purchased separately) \nBookings:  www.trybooking.com/DCUOC \n(bookings close 26.9.25)
URL:https://kytherianassociation.com.au/event/dubbo-reunion-dinner-dance/
LOCATION:Dubbo RSL Memorial Club\, 178 Brisbane Street\, Dubbo\, NSW\, 2830\, Australia
CATEGORIES:Family,KAA
ATTACH;FMTTYPE=image/png:https://kytherianassociation.com.au/wp-content/uploads/2025/07/Dubbo-reunion-dinner-dance.png
END:VEVENT
BEGIN:VEVENT
DTSTART;TZID=Australia/Sydney:20251005T080000
DTEND;TZID=Australia/Sydney:20251005T150000
DTSTAMP:20260425T063342
CREATED:20250729T024016Z
LAST-MODIFIED:20250729T024028Z
UID:3545-1759651200-1759676400@kytherianassociation.com.au
SUMMARY:Dubbo Church Service & Luncheon
DESCRIPTION:Dubbo Church Service & Luncheon\nSunday 5 October 2025 \nPanagia Myrtidiotissa Greek Orthodox Church Dubbo – Cnr Roper & Gipps Streets Dubbo 2830 \n8am-11am approx – join us for a church service at Panagia Myrtidiotissa Greek Orthodox Church Dubbo to commemorate our Patron Saint\, Panagia Myrtidiotissa. There will also be a mnimosino held to commemorate all the loved ones who lived in the Orana & Central West regions. \nAfter church – tea\, coffee and lunch\, organised by the Dubbo Church Committee\, will be served on the church grounds after the service. \nAll proceeds of the lunch will be donated to the church \nBOOKINGS FOR LUNCH: https://www.trybooking.com/DCWFJ \n$40PP (Price includes buffet lunch\, dessert\, tea & coffee. Drinks can be purchased separately). Bookings close 21.9.25 \n \n 
URL:https://kytherianassociation.com.au/event/dubbo-church-service-luncheon/
LOCATION:Dubbo Greek Orthodox Church (Panagia Myrtidiotissa)\, Cnr Roper & Gipps Streets\, Dubbo\, NSW\, 2830\, Australia
CATEGORIES:Family,KAA
ATTACH;FMTTYPE=image/jpeg:https://kytherianassociation.com.au/wp-content/uploads/2025/07/Dubbo-church-service-a4.jpg
END:VEVENT
BEGIN:VEVENT
DTSTART;TZID=Australia/Sydney:20251005T183000
DTEND;TZID=Australia/Sydney:20251005T230000
DTSTAMP:20260425T063342
CREATED:20250729T024923Z
LAST-MODIFIED:20250729T024923Z
UID:3553-1759689000-1759705200@kytherianassociation.com.au
SUMMARY:Dubbo - view NRL Grand Final
DESCRIPTION:Dubbo – view NRL Grand Final\nJoin us to watch the NRL Grand Final in Dubbo \nSunday 5 October\, from 6.30pm \nCommercial Hotel – 161 Brisbane Street\, Dubbo \nBookings: www.trybooking.com/DDLQK \nFree entry – bookings required to reserve section at venue. Food/drinks to be purchased as required.
URL:https://kytherianassociation.com.au/event/dubbo-view-nrl-grand-final/
LOCATION:Commercial Hotel Dubbo\, 161 Bris
CATEGORIES:Family,KAA
ATTACH;FMTTYPE=image/jpeg:https://kytherianassociation.com.au/wp-content/uploads/2025/07/Dubbo-NRL-grand-final.jpg
END:VEVENT
BEGIN:VEVENT
DTSTART;VALUE=DATE:20251009
DTEND;VALUE=DATE:20251010
DTSTAMP:20260425T063342
CREATED:20250729T030142Z
LAST-MODIFIED:20250729T030142Z
UID:3559-1759968000-1760054399@kytherianassociation.com.au
SUMMARY:KLA Terrigal Bus Trip
DESCRIPTION:KLA Terrigal Bus Trip\nThursday 9 October 2025 \n8am/8.30am/9.00am start \n$145pp \nEnjoy the stunnking views of the Central Coast. Limited Seats. Return bus trip to Terrigal. Scones & tea/coffee at Wild Pear Cafe in Dural. 2 course lunch & tea/coffee at Seasalt\, Crowne Plaza Terrigal Pacific. Drinks at own cost \nBookings: www.trybooking.com/DDOIB \nBookings open 7.8.25\, close 21.9.25. \nPick up points: \n8am – St Catherine’s Greek Orthodox Church Mascot \n8.30am – Roselands Shopping Centre bus shelter \n9.00am – St Ioannis Greek Orthodox Church Parramatta \n  \nEnquiries: Sophia Poulos 0438660412; Koula Tzannes 0419432600
URL:https://kytherianassociation.com.au/event/kla-terrigal-bus-trip/
LOCATION:NSW
CATEGORIES:KAA,Ladies Auxiliary
ATTACH;FMTTYPE=image/jpeg:https://kytherianassociation.com.au/wp-content/uploads/2025/07/Terrigal-Bus-Trip-updated-002-1.jpg
END:VEVENT
BEGIN:VEVENT
DTSTART;TZID=Australia/Sydney:20251015T193000
DTEND;TZID=Australia/Sydney:20251015T220000
DTSTAMP:20260425T063342
CREATED:20250604T064618Z
LAST-MODIFIED:20250729T025154Z
UID:3433-1760556600-1760565600@kytherianassociation.com.au
SUMMARY:Greek Cafes & Milk Bars - LECTURE & FUNDRAISER
DESCRIPTION:AHEPA NSW & KWHF invite you to join us for a LECTURE & FUNDRAISER\n**NEW DATE** \n15 October @ 7.30pm \nAHEPA Hall\, 394 Princes Highway\, Rockdale \nGREEK CAFES & MILK BARS OF AUSTRALIA \nJoin us as Leonard Janiszewski & EffyAlexakis the renowned historian and documentary photographer and creators of the In Their Own Image: Greek-Australians National Project Archive deliver an enthralling presentation on a history familiar to many Greek and Kytherian families in Australia. \nIn every suburb and country town was the Greek cafe or mil bar – open all hours\, 7 days a week.  These family-based food-catering enterprises ‘transformed’ Australian popular culture. \nJaniszewski’s and Alexakis’ presentation will not only investigate the overall development of Greek cafes an milk bars across Australia\, but also the personal stories of those involved – proprietors\, waiting staff and customers. \nThis lecture is a fundraiser event for the digitisation of the In Their Own Image: Greek-Australians National Project Archive with the State Library of New South Wales. \nREGISTER TODAY – FREE ENTRY www.trybooking.com/DCCJB \nTo donate: www.sl.nsw.gov.au/give Donations tax deductible. Plus proceeds from all books sold on the night will be donated.
URL:https://kytherianassociation.com.au/event/greek-cafes-milk-bars-lecture-fundraiser/
LOCATION:AHEPA Hall\, 394-396 Princes Highway\, Rockdale\, NSW\, 2216\, Australia
CATEGORIES:KAA,Kytherian World Heritage Fund
ATTACH;FMTTYPE=image/png:https://kytherianassociation.com.au/wp-content/uploads/2025/07/OCTOBER-15-Greek-milk-bars-flyer-1-002.png
END:VEVENT
END:VCALENDAR